BEGIN:VCALENDAR
PRODID:-//Calendar export
VERSION:2.0
X-WR-TIMEZONE:Etc/GMT
BEGIN:VTIMEZONE
TZID:GMT Standard Time
BEGIN:STANDARD
TZOFFSETFROM:+0000
TZOFFSETTO:+0000
END:STANDARD
END:VTIMEZONE
BEGIN:VEVENT
UID:AE189
DTSTAMP:20260421T235700Z
SUMMARY:Befrielse och helande: Reträtt med p Dominic Valanmanal i J
 ärfälla 22-24 
 april
CLASS:PUBLIC
DESCRIPTION:
STATUS:CONFIRMED
PRIORITY:1
DTSTART:20260422T143000Z
DTEND:20260424T183000Z
TRANSP:OPAQUE
END:VEVENT
END:VCALENDAR
